BEGIN:VCALENDAR
VERSION:2.0
PRODID:-//Biddinger, Schrot &amp; Rolando, PC - ECPv6.10.0//NONSGML v1.0//EN
CALSCALE:GREGORIAN
METHOD:PUBLISH
X-WR-CALNAME:Biddinger, Schrot &amp; Rolando, PC
X-ORIGINAL-URL:https://www.beelderlaw.com
X-WR-CALDESC:Events for Biddinger, Schrot &amp; Rolando, PC
REFRESH-INTERVAL;VALUE=DURATION:PT1H
X-Robots-Tag:noindex
X-PUBLISHED-TTL:PT1H
BEGIN:VTIMEZONE
TZID:America/New_York
BEGIN:DAYLIGHT
TZOFFSETFROM:-0500
TZOFFSETTO:-0400
TZNAME:EDT
DTSTART:20260308T070000
END:DAYLIGHT
BEGIN:STANDARD
TZOFFSETFROM:-0400
TZOFFSETTO:-0500
TZNAME:EST
DTSTART:20261101T060000
END:STANDARD
END:VTIMEZONE
BEGIN:VEVENT
DTSTART;TZID=America/New_York:20260528T180000
DTEND;TZID=America/New_York:20260528T190000
DTSTAMP:20260421T103717
CREATED:20260304T192426Z
LAST-MODIFIED:20260416T191325Z
UID:5605-1779991200-1779994800@www.beelderlaw.com
SUMMARY:How Do I Pay for Long-Term Care?
DESCRIPTION:Join us for our Long-Term Care Planning Workshop\, where we’ll walk through how care is paid for and what steps you can take to protect your assets and your family.\n\nGet the Information You Need to Protect Yourself and Your Loved Ones\n\nHow Do I Pay for Long-Term Care?\nPlanning for long-term care is one of the most important—and often most overlooked—parts of Estate Planning. \nMany families don’t think about it until a crisis happens. By then\, the options can feel limited\, the decisions rushed\, and the financial impact overwhelming. \nThe reality is\, long-term care is expensive. And without a plan in place\, those costs can quickly affect everything you’ve worked hard to build. \nThis workshop is designed to help you understand your options before that point. \nWe’ll walk through how long-term care is typically paid for\, what role programs like Medicaid can play\, and how proactive planning can help protect both your assets and your loved ones. \n\n🔹 What You’ll Learn\n\nHow long-term care is paid for—and why many families are caught off guard\nThe real cost of long-term care in Michigan\nHow Medicaid works and what it can (and cannot) cover\nThe basic rules for Medicaid eligibility\nHow Trusts and other planning tools can help protect assets\nHow to plan ahead to avoid spending down everything you own\nThe role of financial and medical decision-makers if you become incapacitated\n\n\n🔹 Why Planning Ahead Matters\nWithout proper planning: \n\nFamilies often pay out-of-pocket longer than expected\nAssets can be depleted quickly\nImportant decisions are made under pressure\nLoved ones may be left without clear guidance or authority\n\nPlanning ahead allows you to make informed choices\, protect what matters most\, and create a plan that works for your specific situation. \n\n🔹 Who Should Attend\n\nIndividuals planning for their future care\nAdult children helping aging parents\nFamilies concerned about the cost of nursing home or in-home care\nAnyone who wants to better understand how Medicaid fits into long-term care planning\n\n\n🔹 Everything You’ll Walk Away Understanding\n\nHow long-term care is typically paid for\nWhat Medicaid covers—and how to qualify\nHow to plan ahead to help protect your assets\nWhat steps you can take now to avoid costly mistakes later\nHow to create a plan that supports both your care and your family\n\n\n🔹 Join Us\n📅 April 23⏰ 6:00 PM\n📍 Caro Office: 1205 E. Caro Road\, Caro\, MI 48723 \nUse the form below to reserve your seat. \nAll attendees will receive a complimentary consultation.\n\n\n\n                \n                        URLThis field is for validation purposes and should be left unchanged.This field is hidden when viewing the formTitleThis field is hidden when viewing the formOrganizerThis field is hidden when viewing the formTimeThis field is hidden when viewing the formAddressThis field is hidden when viewing the formMapLinkName(Required)\n                            \n                            \n                                                    \n                                                    First\n                                                \n                            \n                            \n                                                    \n                                                    Last\n                                                \n                            \n                        Email(Required)\n                            \n                        Phone(Required)(###) ###-####How many seats would you like to reserve?(Required)How did you hear about this event?(Required)WebsiteFacebookEmailFriendWeb AdMailNewspaperOtherIf other\, please explain\n         This site is protected by reCAPTCHA and the Google\n    Privacy Policy and\n    Terms of Service apply.
URL:https://www.beelderlaw.com/event/how-do-i-pay-for-long-term-care/
LOCATION:Caro Office\, 1205 E. Caro Road\, Caro\, MI\, 48723
CATEGORIES:Estate Planning
ATTACH;FMTTYPE=image/jpeg:https://www.beelderlaw.com/wp-content/uploads/Staying-Healthy.jpg
ORGANIZER;CN="Biddinger%2C Schrot & Rolando%2C PC":MAILTO:lawoffice@beelderlaw.com
END:VEVENT
BEGIN:VEVENT
DTSTART;TZID=America/New_York:20260827T180000
DTEND;TZID=America/New_York:20260827T190000
DTSTAMP:20260421T103717
CREATED:20260417T144639Z
LAST-MODIFIED:20260417T144639Z
UID:5641-1787853600-1787857200@www.beelderlaw.com
SUMMARY:What Happens When a Spouse Dies Without Planning?
DESCRIPTION:Join us for a workshop focused on what happens when a spouse passes without a plan—and how to take steps now to protect your family from unnecessary complications.\n\nGet the Information You Need to Protect Yourself and Your Loved Ones\n\nWhat Happens When a Spouse Dies Without Planning?\nLosing a spouse is one of life’s most difficult experiences. \nIn the middle of that loss\, the last thing anyone wants is to navigate legal\, financial\, and administrative uncertainty. \nBut when there is no plan in place\, that’s often exactly what happens. \nWithout proper Estate Planning\, surviving spouses can face delays\, unexpected costs\, and complicated processes—at a time when clarity and simplicity matter most. \nThis workshop is designed to help you understand what typically happens when a spouse passes away without planning\, and how those situations can be avoided with the right steps in place. \nWe’ll walk through the practical and legal realities\, so you can better protect yourself\, your spouse\, and your family. \n\n🔹 What You’ll Learn\n\nWhat happens when a spouse passes away without a Will or Trust\nHow assets are handled when no plan is in place\nThe role of Probate and how it can affect a surviving spouse\nWhat decisions may be delayed or complicated\nHow jointly owned assets are treated\nThe importance of Powers of Attorney and other key documents\nSteps that can be taken now to simplify things later\n\n\n🔹 Why Planning Ahead Matters\nWithout a plan in place: \n\nSurviving spouses may face unnecessary legal processes\nAccess to certain assets may be delayed\nImportant decisions may become more complicated\nAdditional stress can be added during an already emotional time\n\nPlanning ahead helps ensure that things are handled clearly\, efficiently\, and according to your wishes—so your loved ones can focus on what truly matters. \n\n🔹 Who Should Attend\n\nMarried couples at any stage of life\nIndividuals who want to protect their spouse from unnecessary complications\nAdult children helping parents review their plans\nAnyone who wants to better understand what happens without planning\n\n\n🔹 Everything You’ll Walk Away Understanding\n\nWhat typically happens when a spouse dies without a plan\nHow Probate and asset distribution may affect a surviving spouse\nWhat risks and delays can arise without proper documents\nHow to put a plan in place that protects your family\nWhat steps you can take now to create clarity later\n\n\n🔹 Join Us\n📅 August 27⏰ 6:00 PM📍 Caro Office: 1205 E. Caro Road\, Caro\, MI 48723 \nUse the form below to reserve your seat. \nAll attendees will receive a complimentary consultation.\n\n\n                \n                        PhoneThis field is for validation purposes and should be left unchanged.This field is hidden when viewing the formTitleThis field is hidden when viewing the formOrganizerThis field is hidden when viewing the formTimeThis field is hidden when viewing the formAddressThis field is hidden when viewing the formMapLinkName(Required)\n                            \n                            \n                                                    \n                                                    First\n                                                \n                            \n                            \n                                                    \n                                                    Last\n                                                \n                            \n                        Email(Required)\n                            \n                        Phone(Required)(###) ###-####How many seats would you like to reserve?(Required)How did you hear about this event?(Required)WebsiteFacebookEmailFriendWeb AdMailNewspaperOtherIf other\, please explain\n         This site is protected by reCAPTCHA and the Google\n    Privacy Policy and\n    Terms of Service apply.
URL:https://www.beelderlaw.com/event/what-happens-spouse-dies-without-planning/
LOCATION:Caro Office\, 1205 E. Caro Road\, Caro\, MI\, 48723
CATEGORIES:Estate Planning
ATTACH;FMTTYPE=image/jpeg:https://www.beelderlaw.com/wp-content/uploads/Prevent-Elder-Abuse.jpg
ORGANIZER;CN="Biddinger%2C Schrot & Rolando%2C PC":MAILTO:lawoffice@beelderlaw.com
END:VEVENT
END:VCALENDAR